BEGIN:VCALENDAR
VERSION:2.0
PRODID:-//wp-events-plugin.com//7.2.3.1//EN
TZID:Europe/Paris
X-WR-TIMEZONE:Europe/Paris
BEGIN:VEVENT
UID:732@essai.ddupuis.info
DTSTART;TZID=Europe/Paris:20260425T081500
DTEND;TZID=Europe/Paris:20260425T104500
DTSTAMP:20260422T123800Z
URL:http://essai.ddupuis.info/events/nouveau/
SUMMARY:Nouveau
DESCRIPTION:
CATEGORIES:Rando pédestre
LOCATION:Place Saint Roch\, Place saint Roch\, Arvillard\, 73110\, France
GEO:45.442308;6.12123
X-APPLE-STRUCTURED-LOCATION;VALUE=URI;X-ADDRESS=Place saint Roch\, Arvillar
 d\, 73110\, France;X-APPLE-RADIUS=100;X-TITLE=Place Saint Roch:geo:45.4423
 08,6.12123
END:VEVENT
BEGIN:VTIMEZONE
TZID:Europe/Paris
X-LIC-LOCATION:Europe/Paris
BEGIN:DAYLIGHT
DTSTART:20260329T030000
TZOFFSETFROM:+0100
TZOFFSETTO:+0200
TZNAME:CEST
END:DAYLIGHT
END:VTIMEZONE
END:VCALENDAR